BEGIN:VCALENDAR
VERSION:2.0
PRODID:-//NishkaRahulWedding//Wedding Site//EN
CALSCALE:GREGORIAN
METHOD:PUBLISH
BEGIN:VTIMEZONE
TZID:America/New_York
BEGIN:DAYLIGHT
TZOFFSETFROM:-0500
TZOFFSETTO:-0400
TZNAME:EDT
DTSTART:19700308T020000
RRULE:FREQ=YEARLY;BYMONTH=3;BYDAY=2SU
END:DAYLIGHT
BEGIN:STANDARD
TZOFFSETFROM:-0400
TZOFFSETTO:-0500
TZNAME:EST
DTSTART:19701101T020000
RRULE:FREQ=YEARLY;BYMONTH=11;BYDAY=1SU
END:STANDARD
END:VTIMEZONE
BEGIN:VEVENT
UID:nishka-rahul-wedding-ceremony-20260926T171500@wedding.local
DTSTAMP:20260420T030458Z
DTSTART;TZID=America/New_York:20260926T171500
DTEND;TZID=America/New_York:20260926T183000
SUMMARY:Nishka & Rahul — Wedding Ceremony
LOCATION:St. Michael - Jersey City\, NJ
DESCRIPTION:Saturday\, September 26 · 5:15 PM. 5:00 PM – 5:15 PM: Guests are requested to be seated 5:15 PM – 6:30 PM: Ceremony
END:VEVENT
END:VCALENDAR