BEGIN:VCALENDAR
VERSION:2.0
PRODID:-//NishkaRahulWedding//Wedding Site//EN
CALSCALE:GREGORIAN
METHOD:PUBLISH
BEGIN:VTIMEZONE
TZID:America/New_York
BEGIN:DAYLIGHT
TZOFFSETFROM:-0500
TZOFFSETTO:-0400
TZNAME:EDT
DTSTART:19700308T020000
RRULE:FREQ=YEARLY;BYMONTH=3;BYDAY=2SU
END:DAYLIGHT
BEGIN:STANDARD
TZOFFSETFROM:-0400
TZOFFSETTO:-0500
TZNAME:EST
DTSTART:19701101T020000
RRULE:FREQ=YEARLY;BYMONTH=11;BYDAY=1SU
END:STANDARD
END:VTIMEZONE
BEGIN:VEVENT
UID:nishka-rahul-wedding-reception-20260926T183000@wedding.local
DTSTAMP:20260420T030303Z
DTSTART;TZID=America/New_York:20260926T183000
DTEND;TZID=America/New_York:20260927T000000
SUMMARY:Nishka & Rahul — Wedding Reception
LOCATION:Westin\, Jersey City
DESCRIPTION:Saturday\, September 26 · 6:30 PM – 12:00 AM. 6:30 PM – 8:00 PM: Cocktail Hour 8:00 PM – 9:30 PM: Dinner 9:30 PM – 12:00 AM: Dancing
END:VEVENT
END:VCALENDAR